BEGIN:VCALENDAR
PRODID:-//AT Content Types//AT Event//EN
VERSION:1.0
BEGIN:VEVENT
DTSTART:20150926T220000Z
DTEND:20150927T215000Z
DCREATED:20150815T062951Z
UID:ATEvent-a8722ecffe5d29af24cee3d594ea62fe
SEQUENCE:0
LAST-MODIFIED:20150815T063233Z
SUMMARY:Eventi - Fiera di San Michele 2015
DESCRIPTION:La fiera dedicata a San Michele si svolge la domenica più
  vicina alla ricorrenza del Santo del 29 Settembre e conta circa un ce
 ntinaio di bancarelle di merci varie.
PRIORITY:3
TRANSP:0
END:VEVENT
END:VCALENDAR
